BEGIN:VCALENDAR
VERSION:2.0
PRODID:-//Friends of Pullman National Historical Park - ECPv6.15.20//NONSGML v1.0//EN
CALSCALE:GREGORIAN
METHOD:PUBLISH
X-ORIGINAL-URL:https://friendsofpullman.com
X-WR-CALDESC:Events for Friends of Pullman National Historical Park
REFRESH-INTERVAL;VALUE=DURATION:PT1H
X-Robots-Tag:noindex
X-PUBLISHED-TTL:PT1H
BEGIN:VTIMEZONE
TZID:America/New_York
BEGIN:DAYLIGHT
TZOFFSETFROM:-0500
TZOFFSETTO:-0400
TZNAME:EDT
DTSTART:20280312T070000
END:DAYLIGHT
BEGIN:STANDARD
TZOFFSETFROM:-0400
TZOFFSETTO:-0500
TZNAME:EST
DTSTART:20281105T060000
END:STANDARD
BEGIN:DAYLIGHT
TZOFFSETFROM:-0500
TZOFFSETTO:-0400
TZNAME:EDT
DTSTART:20290311T070000
END:DAYLIGHT
BEGIN:STANDARD
TZOFFSETFROM:-0400
TZOFFSETTO:-0500
TZNAME:EST
DTSTART:20291104T060000
END:STANDARD
BEGIN:DAYLIGHT
TZOFFSETFROM:-0500
TZOFFSETTO:-0400
TZNAME:EDT
DTSTART:20300310T070000
END:DAYLIGHT
BEGIN:STANDARD
TZOFFSETFROM:-0400
TZOFFSETTO:-0500
TZNAME:EST
DTSTART:20301103T060000
END:STANDARD
END:VTIMEZONE
BEGIN:VEVENT
DTSTART;TZID=America/New_York:20290105T110000
DTEND;TZID=America/New_York:20290105T150000
DTSTAMP:20260419T223524
CREATED:20260323T155206Z
LAST-MODIFIED:20260323T155206Z
UID:10008507-1862305200-1862319600@friendsofpullman.com
SUMMARY:Pullman Exhibit Hall Open
DESCRIPTION:
URL:https://friendsofpullman.com/event/pullman-exhibit-hall-open-2/2029-01-05/
LOCATION:Pullman Exhibit Hall
ATTACH;FMTTYPE=image/jpeg:https://friendsofpullman.com/wp-content/uploads/2025/06/Untitled-design-2.jpg
END:VEVENT
BEGIN:VEVENT
DTSTART;TZID=America/New_York:20290106T110000
DTEND;TZID=America/New_York:20290106T150000
DTSTAMP:20260419T223524
CREATED:20260323T155206Z
LAST-MODIFIED:20260323T155206Z
UID:10008508-1862391600-1862406000@friendsofpullman.com
SUMMARY:Pullman Exhibit Hall Open
DESCRIPTION:
URL:https://friendsofpullman.com/event/pullman-exhibit-hall-open-2/2029-01-06/
LOCATION:Pullman Exhibit Hall
ATTACH;FMTTYPE=image/jpeg:https://friendsofpullman.com/wp-content/uploads/2025/06/Untitled-design-2.jpg
END:VEVENT
BEGIN:VEVENT
DTSTART;TZID=America/New_York:20290112T110000
DTEND;TZID=America/New_York:20290112T150000
DTSTAMP:20260419T223524
CREATED:20260323T155206Z
LAST-MODIFIED:20260323T155206Z
UID:10008509-1862910000-1862924400@friendsofpullman.com
SUMMARY:Pullman Exhibit Hall Open
DESCRIPTION:
URL:https://friendsofpullman.com/event/pullman-exhibit-hall-open-2/2029-01-12/
LOCATION:Pullman Exhibit Hall
ATTACH;FMTTYPE=image/jpeg:https://friendsofpullman.com/wp-content/uploads/2025/06/Untitled-design-2.jpg
END:VEVENT
BEGIN:VEVENT
DTSTART;TZID=America/New_York:20290113T110000
DTEND;TZID=America/New_York:20290113T150000
DTSTAMP:20260419T223524
CREATED:20260323T155206Z
LAST-MODIFIED:20260323T155206Z
UID:10008510-1862996400-1863010800@friendsofpullman.com
SUMMARY:Pullman Exhibit Hall Open
DESCRIPTION:
URL:https://friendsofpullman.com/event/pullman-exhibit-hall-open-2/2029-01-13/
LOCATION:Pullman Exhibit Hall
ATTACH;FMTTYPE=image/jpeg:https://friendsofpullman.com/wp-content/uploads/2025/06/Untitled-design-2.jpg
END:VEVENT
BEGIN:VEVENT
DTSTART;TZID=America/New_York:20290119T110000
DTEND;TZID=America/New_York:20290119T150000
DTSTAMP:20260419T223524
CREATED:20260323T155206Z
LAST-MODIFIED:20260323T155206Z
UID:10008511-1863514800-1863529200@friendsofpullman.com
SUMMARY:Pullman Exhibit Hall Open
DESCRIPTION:
URL:https://friendsofpullman.com/event/pullman-exhibit-hall-open-2/2029-01-19/
LOCATION:Pullman Exhibit Hall
ATTACH;FMTTYPE=image/jpeg:https://friendsofpullman.com/wp-content/uploads/2025/06/Untitled-design-2.jpg
END:VEVENT
BEGIN:VEVENT
DTSTART;TZID=America/New_York:20290120T110000
DTEND;TZID=America/New_York:20290120T150000
DTSTAMP:20260419T223524
CREATED:20260323T155206Z
LAST-MODIFIED:20260323T155206Z
UID:10008512-1863601200-1863615600@friendsofpullman.com
SUMMARY:Pullman Exhibit Hall Open
DESCRIPTION:
URL:https://friendsofpullman.com/event/pullman-exhibit-hall-open-2/2029-01-20/
LOCATION:Pullman Exhibit Hall
ATTACH;FMTTYPE=image/jpeg:https://friendsofpullman.com/wp-content/uploads/2025/06/Untitled-design-2.jpg
END:VEVENT
BEGIN:VEVENT
DTSTART;TZID=America/New_York:20290126T110000
DTEND;TZID=America/New_York:20290126T150000
DTSTAMP:20260419T223524
CREATED:20260323T155206Z
LAST-MODIFIED:20260323T155206Z
UID:10008513-1864119600-1864134000@friendsofpullman.com
SUMMARY:Pullman Exhibit Hall Open
DESCRIPTION:
URL:https://friendsofpullman.com/event/pullman-exhibit-hall-open-2/2029-01-26/
LOCATION:Pullman Exhibit Hall
ATTACH;FMTTYPE=image/jpeg:https://friendsofpullman.com/wp-content/uploads/2025/06/Untitled-design-2.jpg
END:VEVENT
BEGIN:VEVENT
DTSTART;TZID=America/New_York:20290127T110000
DTEND;TZID=America/New_York:20290127T150000
DTSTAMP:20260419T223524
CREATED:20260323T155206Z
LAST-MODIFIED:20260323T155206Z
UID:10008514-1864206000-1864220400@friendsofpullman.com
SUMMARY:Pullman Exhibit Hall Open
DESCRIPTION:
URL:https://friendsofpullman.com/event/pullman-exhibit-hall-open-2/2029-01-27/
LOCATION:Pullman Exhibit Hall
ATTACH;FMTTYPE=image/jpeg:https://friendsofpullman.com/wp-content/uploads/2025/06/Untitled-design-2.jpg
END:VEVENT
END:VCALENDAR