BEGIN:VCALENDAR
VERSION:2.0
PRODID:-//Friends of Pullman National Historical Park - ECPv6.15.20//NONSGML v1.0//EN
CALSCALE:GREGORIAN
METHOD:PUBLISH
X-ORIGINAL-URL:https://friendsofpullman.com
X-WR-CALDESC:Events for Friends of Pullman National Historical Park
REFRESH-INTERVAL;VALUE=DURATION:PT1H
X-Robots-Tag:noindex
X-PUBLISHED-TTL:PT1H
BEGIN:VTIMEZONE
TZID:America/New_York
BEGIN:DAYLIGHT
TZOFFSETFROM:-0500
TZOFFSETTO:-0400
TZNAME:EDT
DTSTART:20280312T070000
END:DAYLIGHT
BEGIN:STANDARD
TZOFFSETFROM:-0400
TZOFFSETTO:-0500
TZNAME:EST
DTSTART:20281105T060000
END:STANDARD
BEGIN:DAYLIGHT
TZOFFSETFROM:-0500
TZOFFSETTO:-0400
TZNAME:EDT
DTSTART:20290311T070000
END:DAYLIGHT
BEGIN:STANDARD
TZOFFSETFROM:-0400
TZOFFSETTO:-0500
TZNAME:EST
DTSTART:20291104T060000
END:STANDARD
BEGIN:DAYLIGHT
TZOFFSETFROM:-0500
TZOFFSETTO:-0400
TZNAME:EDT
DTSTART:20300310T070000
END:DAYLIGHT
BEGIN:STANDARD
TZOFFSETFROM:-0400
TZOFFSETTO:-0500
TZNAME:EST
DTSTART:20301103T060000
END:STANDARD
END:VTIMEZONE
BEGIN:VEVENT
DTSTART;TZID=America/New_York:20290406T110000
DTEND;TZID=America/New_York:20290406T150000
DTSTAMP:20260420T024759
CREATED:20260323T155206Z
LAST-MODIFIED:20260323T155206Z
UID:10008533-1870167600-1870182000@friendsofpullman.com
SUMMARY:Pullman Exhibit Hall Open
DESCRIPTION:
URL:https://friendsofpullman.com/event/pullman-exhibit-hall-open-2/2029-04-06/
LOCATION:Pullman Exhibit Hall
ATTACH;FMTTYPE=image/jpeg:https://friendsofpullman.com/wp-content/uploads/2025/06/Untitled-design-2.jpg
END:VEVENT
BEGIN:VEVENT
DTSTART;TZID=America/New_York:20290407T110000
DTEND;TZID=America/New_York:20290407T150000
DTSTAMP:20260420T024759
CREATED:20260323T155206Z
LAST-MODIFIED:20260323T155206Z
UID:10008534-1870254000-1870268400@friendsofpullman.com
SUMMARY:Pullman Exhibit Hall Open
DESCRIPTION:
URL:https://friendsofpullman.com/event/pullman-exhibit-hall-open-2/2029-04-07/
LOCATION:Pullman Exhibit Hall
ATTACH;FMTTYPE=image/jpeg:https://friendsofpullman.com/wp-content/uploads/2025/06/Untitled-design-2.jpg
END:VEVENT
BEGIN:VEVENT
DTSTART;TZID=America/New_York:20290413T110000
DTEND;TZID=America/New_York:20290413T150000
DTSTAMP:20260420T024759
CREATED:20260323T155206Z
LAST-MODIFIED:20260323T155206Z
UID:10008535-1870772400-1870786800@friendsofpullman.com
SUMMARY:Pullman Exhibit Hall Open
DESCRIPTION:
URL:https://friendsofpullman.com/event/pullman-exhibit-hall-open-2/2029-04-13/
LOCATION:Pullman Exhibit Hall
ATTACH;FMTTYPE=image/jpeg:https://friendsofpullman.com/wp-content/uploads/2025/06/Untitled-design-2.jpg
END:VEVENT
BEGIN:VEVENT
DTSTART;TZID=America/New_York:20290414T110000
DTEND;TZID=America/New_York:20290414T150000
DTSTAMP:20260420T024759
CREATED:20260323T155206Z
LAST-MODIFIED:20260323T155206Z
UID:10008536-1870858800-1870873200@friendsofpullman.com
SUMMARY:Pullman Exhibit Hall Open
DESCRIPTION:
URL:https://friendsofpullman.com/event/pullman-exhibit-hall-open-2/2029-04-14/
LOCATION:Pullman Exhibit Hall
ATTACH;FMTTYPE=image/jpeg:https://friendsofpullman.com/wp-content/uploads/2025/06/Untitled-design-2.jpg
END:VEVENT
BEGIN:VEVENT
DTSTART;TZID=America/New_York:20290420T110000
DTEND;TZID=America/New_York:20290420T150000
DTSTAMP:20260420T024759
CREATED:20260323T155206Z
LAST-MODIFIED:20260323T155206Z
UID:10008537-1871377200-1871391600@friendsofpullman.com
SUMMARY:Pullman Exhibit Hall Open
DESCRIPTION:
URL:https://friendsofpullman.com/event/pullman-exhibit-hall-open-2/2029-04-20/
LOCATION:Pullman Exhibit Hall
ATTACH;FMTTYPE=image/jpeg:https://friendsofpullman.com/wp-content/uploads/2025/06/Untitled-design-2.jpg
END:VEVENT
BEGIN:VEVENT
DTSTART;TZID=America/New_York:20290421T110000
DTEND;TZID=America/New_York:20290421T150000
DTSTAMP:20260420T024759
CREATED:20260323T155206Z
LAST-MODIFIED:20260323T155206Z
UID:10008538-1871463600-1871478000@friendsofpullman.com
SUMMARY:Pullman Exhibit Hall Open
DESCRIPTION:
URL:https://friendsofpullman.com/event/pullman-exhibit-hall-open-2/2029-04-21/
LOCATION:Pullman Exhibit Hall
ATTACH;FMTTYPE=image/jpeg:https://friendsofpullman.com/wp-content/uploads/2025/06/Untitled-design-2.jpg
END:VEVENT
BEGIN:VEVENT
DTSTART;TZID=America/New_York:20290427T110000
DTEND;TZID=America/New_York:20290427T150000
DTSTAMP:20260420T024759
CREATED:20260323T155206Z
LAST-MODIFIED:20260323T155206Z
UID:10008539-1871982000-1871996400@friendsofpullman.com
SUMMARY:Pullman Exhibit Hall Open
DESCRIPTION:
URL:https://friendsofpullman.com/event/pullman-exhibit-hall-open-2/2029-04-27/
LOCATION:Pullman Exhibit Hall
ATTACH;FMTTYPE=image/jpeg:https://friendsofpullman.com/wp-content/uploads/2025/06/Untitled-design-2.jpg
END:VEVENT
BEGIN:VEVENT
DTSTART;TZID=America/New_York:20290428T110000
DTEND;TZID=America/New_York:20290428T150000
DTSTAMP:20260420T024759
CREATED:20260323T155206Z
LAST-MODIFIED:20260323T155206Z
UID:10008540-1872068400-1872082800@friendsofpullman.com
SUMMARY:Pullman Exhibit Hall Open
DESCRIPTION:
URL:https://friendsofpullman.com/event/pullman-exhibit-hall-open-2/2029-04-28/
LOCATION:Pullman Exhibit Hall
ATTACH;FMTTYPE=image/jpeg:https://friendsofpullman.com/wp-content/uploads/2025/06/Untitled-design-2.jpg
END:VEVENT
END:VCALENDAR