BEGIN:VCALENDAR
VERSION:2.0
PRODID:-//Friends of Pullman National Historical Park - ECPv6.15.20//NONSGML v1.0//EN
CALSCALE:GREGORIAN
METHOD:PUBLISH
X-WR-CALNAME:Friends of Pullman National Historical Park
X-ORIGINAL-URL:https://friendsofpullman.com
X-WR-CALDESC:Events for Friends of Pullman National Historical Park
REFRESH-INTERVAL;VALUE=DURATION:PT1H
X-Robots-Tag:noindex
X-PUBLISHED-TTL:PT1H
BEGIN:VTIMEZONE
TZID:America/New_York
BEGIN:DAYLIGHT
TZOFFSETFROM:-0500
TZOFFSETTO:-0400
TZNAME:EDT
DTSTART:20280312T070000
END:DAYLIGHT
BEGIN:STANDARD
TZOFFSETFROM:-0400
TZOFFSETTO:-0500
TZNAME:EST
DTSTART:20281105T060000
END:STANDARD
BEGIN:DAYLIGHT
TZOFFSETFROM:-0500
TZOFFSETTO:-0400
TZNAME:EDT
DTSTART:20290311T070000
END:DAYLIGHT
BEGIN:STANDARD
TZOFFSETFROM:-0400
TZOFFSETTO:-0500
TZNAME:EST
DTSTART:20291104T060000
END:STANDARD
BEGIN:DAYLIGHT
TZOFFSETFROM:-0500
TZOFFSETTO:-0400
TZNAME:EDT
DTSTART:20300310T070000
END:DAYLIGHT
BEGIN:STANDARD
TZOFFSETFROM:-0400
TZOFFSETTO:-0500
TZNAME:EST
DTSTART:20301103T060000
END:STANDARD
END:VTIMEZONE
BEGIN:VEVENT
DTSTART;TZID=America/New_York:20290706T110000
DTEND;TZID=America/New_York:20290706T150000
DTSTAMP:20260420T071153
CREATED:20260323T155206Z
LAST-MODIFIED:20260323T155206Z
UID:10008559-1878030000-1878044400@friendsofpullman.com
SUMMARY:Pullman Exhibit Hall Open
DESCRIPTION:
URL:https://friendsofpullman.com/event/pullman-exhibit-hall-open-2/2029-07-06/
LOCATION:Pullman Exhibit Hall
ATTACH;FMTTYPE=image/jpeg:https://friendsofpullman.com/wp-content/uploads/2025/06/Untitled-design-2.jpg
END:VEVENT
BEGIN:VEVENT
DTSTART;TZID=America/New_York:20290707T110000
DTEND;TZID=America/New_York:20290707T150000
DTSTAMP:20260420T071153
CREATED:20260323T155206Z
LAST-MODIFIED:20260323T155206Z
UID:10008560-1878116400-1878130800@friendsofpullman.com
SUMMARY:Pullman Exhibit Hall Open
DESCRIPTION:
URL:https://friendsofpullman.com/event/pullman-exhibit-hall-open-2/2029-07-07/
LOCATION:Pullman Exhibit Hall
ATTACH;FMTTYPE=image/jpeg:https://friendsofpullman.com/wp-content/uploads/2025/06/Untitled-design-2.jpg
END:VEVENT
BEGIN:VEVENT
DTSTART;TZID=America/New_York:20290713T110000
DTEND;TZID=America/New_York:20290713T150000
DTSTAMP:20260420T071153
CREATED:20260323T155206Z
LAST-MODIFIED:20260323T155206Z
UID:10008561-1878634800-1878649200@friendsofpullman.com
SUMMARY:Pullman Exhibit Hall Open
DESCRIPTION:
URL:https://friendsofpullman.com/event/pullman-exhibit-hall-open-2/2029-07-13/
LOCATION:Pullman Exhibit Hall
ATTACH;FMTTYPE=image/jpeg:https://friendsofpullman.com/wp-content/uploads/2025/06/Untitled-design-2.jpg
END:VEVENT
BEGIN:VEVENT
DTSTART;TZID=America/New_York:20290714T110000
DTEND;TZID=America/New_York:20290714T150000
DTSTAMP:20260420T071153
CREATED:20260323T155206Z
LAST-MODIFIED:20260323T155206Z
UID:10008562-1878721200-1878735600@friendsofpullman.com
SUMMARY:Pullman Exhibit Hall Open
DESCRIPTION:
URL:https://friendsofpullman.com/event/pullman-exhibit-hall-open-2/2029-07-14/
LOCATION:Pullman Exhibit Hall
ATTACH;FMTTYPE=image/jpeg:https://friendsofpullman.com/wp-content/uploads/2025/06/Untitled-design-2.jpg
END:VEVENT
BEGIN:VEVENT
DTSTART;TZID=America/New_York:20290720T110000
DTEND;TZID=America/New_York:20290720T150000
DTSTAMP:20260420T071153
CREATED:20260323T155206Z
LAST-MODIFIED:20260323T155206Z
UID:10008563-1879239600-1879254000@friendsofpullman.com
SUMMARY:Pullman Exhibit Hall Open
DESCRIPTION:
URL:https://friendsofpullman.com/event/pullman-exhibit-hall-open-2/2029-07-20/
LOCATION:Pullman Exhibit Hall
ATTACH;FMTTYPE=image/jpeg:https://friendsofpullman.com/wp-content/uploads/2025/06/Untitled-design-2.jpg
END:VEVENT
BEGIN:VEVENT
DTSTART;TZID=America/New_York:20290721T110000
DTEND;TZID=America/New_York:20290721T150000
DTSTAMP:20260420T071153
CREATED:20260323T155206Z
LAST-MODIFIED:20260323T155206Z
UID:10008564-1879326000-1879340400@friendsofpullman.com
SUMMARY:Pullman Exhibit Hall Open
DESCRIPTION:
URL:https://friendsofpullman.com/event/pullman-exhibit-hall-open-2/2029-07-21/
LOCATION:Pullman Exhibit Hall
ATTACH;FMTTYPE=image/jpeg:https://friendsofpullman.com/wp-content/uploads/2025/06/Untitled-design-2.jpg
END:VEVENT
BEGIN:VEVENT
DTSTART;TZID=America/New_York:20290727T110000
DTEND;TZID=America/New_York:20290727T150000
DTSTAMP:20260420T071153
CREATED:20260323T155206Z
LAST-MODIFIED:20260323T155206Z
UID:10008565-1879844400-1879858800@friendsofpullman.com
SUMMARY:Pullman Exhibit Hall Open
DESCRIPTION:
URL:https://friendsofpullman.com/event/pullman-exhibit-hall-open-2/2029-07-27/
LOCATION:Pullman Exhibit Hall
ATTACH;FMTTYPE=image/jpeg:https://friendsofpullman.com/wp-content/uploads/2025/06/Untitled-design-2.jpg
END:VEVENT
BEGIN:VEVENT
DTSTART;TZID=America/New_York:20290728T110000
DTEND;TZID=America/New_York:20290728T150000
DTSTAMP:20260420T071153
CREATED:20260323T155206Z
LAST-MODIFIED:20260323T155206Z
UID:10008566-1879930800-1879945200@friendsofpullman.com
SUMMARY:Pullman Exhibit Hall Open
DESCRIPTION:
URL:https://friendsofpullman.com/event/pullman-exhibit-hall-open-2/2029-07-28/
LOCATION:Pullman Exhibit Hall
ATTACH;FMTTYPE=image/jpeg:https://friendsofpullman.com/wp-content/uploads/2025/06/Untitled-design-2.jpg
END:VEVENT
END:VCALENDAR