BEGIN:VCALENDAR
VERSION:2.0
PRODID:-//Friends of Pullman National Historical Park - ECPv6.15.20//NONSGML v1.0//EN
CALSCALE:GREGORIAN
METHOD:PUBLISH
X-ORIGINAL-URL:https://friendsofpullman.com
X-WR-CALDESC:Events for Friends of Pullman National Historical Park
REFRESH-INTERVAL;VALUE=DURATION:PT1H
X-Robots-Tag:noindex
X-PUBLISHED-TTL:PT1H
BEGIN:VTIMEZONE
TZID:America/New_York
BEGIN:DAYLIGHT
TZOFFSETFROM:-0500
TZOFFSETTO:-0400
TZNAME:EDT
DTSTART:20280312T070000
END:DAYLIGHT
BEGIN:STANDARD
TZOFFSETFROM:-0400
TZOFFSETTO:-0500
TZNAME:EST
DTSTART:20281105T060000
END:STANDARD
BEGIN:DAYLIGHT
TZOFFSETFROM:-0500
TZOFFSETTO:-0400
TZNAME:EDT
DTSTART:20290311T070000
END:DAYLIGHT
BEGIN:STANDARD
TZOFFSETFROM:-0400
TZOFFSETTO:-0500
TZNAME:EST
DTSTART:20291104T060000
END:STANDARD
BEGIN:DAYLIGHT
TZOFFSETFROM:-0500
TZOFFSETTO:-0400
TZNAME:EDT
DTSTART:20300310T070000
END:DAYLIGHT
BEGIN:STANDARD
TZOFFSETFROM:-0400
TZOFFSETTO:-0500
TZNAME:EST
DTSTART:20301103T060000
END:STANDARD
END:VTIMEZONE
BEGIN:VEVENT
DTSTART;TZID=America/New_York:20291005T110000
DTEND;TZID=America/New_York:20291005T150000
DTSTAMP:20260420T112951
CREATED:20260323T155206Z
LAST-MODIFIED:20260323T155206Z
UID:10008585-1885892400-1885906800@friendsofpullman.com
SUMMARY:Pullman Exhibit Hall Open
DESCRIPTION:
URL:https://friendsofpullman.com/event/pullman-exhibit-hall-open-2/2029-10-05/
LOCATION:Pullman Exhibit Hall
ATTACH;FMTTYPE=image/jpeg:https://friendsofpullman.com/wp-content/uploads/2025/06/Untitled-design-2.jpg
END:VEVENT
BEGIN:VEVENT
DTSTART;TZID=America/New_York:20291006T110000
DTEND;TZID=America/New_York:20291006T150000
DTSTAMP:20260420T112951
CREATED:20260323T155206Z
LAST-MODIFIED:20260323T155206Z
UID:10008586-1885978800-1885993200@friendsofpullman.com
SUMMARY:Pullman Exhibit Hall Open
DESCRIPTION:
URL:https://friendsofpullman.com/event/pullman-exhibit-hall-open-2/2029-10-06/
LOCATION:Pullman Exhibit Hall
ATTACH;FMTTYPE=image/jpeg:https://friendsofpullman.com/wp-content/uploads/2025/06/Untitled-design-2.jpg
END:VEVENT
BEGIN:VEVENT
DTSTART;TZID=America/New_York:20291012T110000
DTEND;TZID=America/New_York:20291012T150000
DTSTAMP:20260420T112951
CREATED:20260323T155206Z
LAST-MODIFIED:20260323T155206Z
UID:10008587-1886497200-1886511600@friendsofpullman.com
SUMMARY:Pullman Exhibit Hall Open
DESCRIPTION:
URL:https://friendsofpullman.com/event/pullman-exhibit-hall-open-2/2029-10-12/
LOCATION:Pullman Exhibit Hall
ATTACH;FMTTYPE=image/jpeg:https://friendsofpullman.com/wp-content/uploads/2025/06/Untitled-design-2.jpg
END:VEVENT
BEGIN:VEVENT
DTSTART;TZID=America/New_York:20291013T110000
DTEND;TZID=America/New_York:20291013T150000
DTSTAMP:20260420T112951
CREATED:20260323T155206Z
LAST-MODIFIED:20260323T155206Z
UID:10008588-1886583600-1886598000@friendsofpullman.com
SUMMARY:Pullman Exhibit Hall Open
DESCRIPTION:
URL:https://friendsofpullman.com/event/pullman-exhibit-hall-open-2/2029-10-13/
LOCATION:Pullman Exhibit Hall
ATTACH;FMTTYPE=image/jpeg:https://friendsofpullman.com/wp-content/uploads/2025/06/Untitled-design-2.jpg
END:VEVENT
BEGIN:VEVENT
DTSTART;TZID=America/New_York:20291019T110000
DTEND;TZID=America/New_York:20291019T150000
DTSTAMP:20260420T112951
CREATED:20260323T155206Z
LAST-MODIFIED:20260323T155206Z
UID:10008589-1887102000-1887116400@friendsofpullman.com
SUMMARY:Pullman Exhibit Hall Open
DESCRIPTION:
URL:https://friendsofpullman.com/event/pullman-exhibit-hall-open-2/2029-10-19/
LOCATION:Pullman Exhibit Hall
ATTACH;FMTTYPE=image/jpeg:https://friendsofpullman.com/wp-content/uploads/2025/06/Untitled-design-2.jpg
END:VEVENT
BEGIN:VEVENT
DTSTART;TZID=America/New_York:20291020T110000
DTEND;TZID=America/New_York:20291020T150000
DTSTAMP:20260420T112951
CREATED:20260323T155206Z
LAST-MODIFIED:20260323T155206Z
UID:10008590-1887188400-1887202800@friendsofpullman.com
SUMMARY:Pullman Exhibit Hall Open
DESCRIPTION:
URL:https://friendsofpullman.com/event/pullman-exhibit-hall-open-2/2029-10-20/
LOCATION:Pullman Exhibit Hall
ATTACH;FMTTYPE=image/jpeg:https://friendsofpullman.com/wp-content/uploads/2025/06/Untitled-design-2.jpg
END:VEVENT
BEGIN:VEVENT
DTSTART;TZID=America/New_York:20291026T110000
DTEND;TZID=America/New_York:20291026T150000
DTSTAMP:20260420T112951
CREATED:20260323T155206Z
LAST-MODIFIED:20260323T155206Z
UID:10008591-1887706800-1887721200@friendsofpullman.com
SUMMARY:Pullman Exhibit Hall Open
DESCRIPTION:
URL:https://friendsofpullman.com/event/pullman-exhibit-hall-open-2/2029-10-26/
LOCATION:Pullman Exhibit Hall
ATTACH;FMTTYPE=image/jpeg:https://friendsofpullman.com/wp-content/uploads/2025/06/Untitled-design-2.jpg
END:VEVENT
BEGIN:VEVENT
DTSTART;TZID=America/New_York:20291027T110000
DTEND;TZID=America/New_York:20291027T150000
DTSTAMP:20260420T112951
CREATED:20260323T155206Z
LAST-MODIFIED:20260323T155206Z
UID:10008592-1887793200-1887807600@friendsofpullman.com
SUMMARY:Pullman Exhibit Hall Open
DESCRIPTION:
URL:https://friendsofpullman.com/event/pullman-exhibit-hall-open-2/2029-10-27/
LOCATION:Pullman Exhibit Hall
ATTACH;FMTTYPE=image/jpeg:https://friendsofpullman.com/wp-content/uploads/2025/06/Untitled-design-2.jpg
END:VEVENT
END:VCALENDAR