BEGIN:VCALENDAR
VERSION:2.0
PRODID:-//Friends of Pullman National Historical Park - ECPv6.15.20//NONSGML v1.0//EN
CALSCALE:GREGORIAN
METHOD:PUBLISH
X-WR-CALNAME:Friends of Pullman National Historical Park
X-ORIGINAL-URL:https://friendsofpullman.com
X-WR-CALDESC:Events for Friends of Pullman National Historical Park
REFRESH-INTERVAL;VALUE=DURATION:PT1H
X-Robots-Tag:noindex
X-PUBLISHED-TTL:PT1H
BEGIN:VTIMEZONE
TZID:America/New_York
BEGIN:DAYLIGHT
TZOFFSETFROM:-0500
TZOFFSETTO:-0400
TZNAME:EDT
DTSTART:20280312T070000
END:DAYLIGHT
BEGIN:STANDARD
TZOFFSETFROM:-0400
TZOFFSETTO:-0500
TZNAME:EST
DTSTART:20281105T060000
END:STANDARD
BEGIN:DAYLIGHT
TZOFFSETFROM:-0500
TZOFFSETTO:-0400
TZNAME:EDT
DTSTART:20290311T070000
END:DAYLIGHT
BEGIN:STANDARD
TZOFFSETFROM:-0400
TZOFFSETTO:-0500
TZNAME:EST
DTSTART:20291104T060000
END:STANDARD
BEGIN:DAYLIGHT
TZOFFSETFROM:-0500
TZOFFSETTO:-0400
TZNAME:EDT
DTSTART:20300310T070000
END:DAYLIGHT
BEGIN:STANDARD
TZOFFSETFROM:-0400
TZOFFSETTO:-0500
TZNAME:EST
DTSTART:20301103T060000
END:STANDARD
END:VTIMEZONE
BEGIN:VEVENT
DTSTART;TZID=America/New_York:20291201T110000
DTEND;TZID=America/New_York:20291201T150000
DTSTAMP:20260420T140458
CREATED:20260323T155206Z
LAST-MODIFIED:20260323T155206Z
UID:10008602-1890817200-1890831600@friendsofpullman.com
SUMMARY:Pullman Exhibit Hall Open
DESCRIPTION:
URL:https://friendsofpullman.com/event/pullman-exhibit-hall-open-2/2029-12-01/
LOCATION:Pullman Exhibit Hall
ATTACH;FMTTYPE=image/jpeg:https://friendsofpullman.com/wp-content/uploads/2025/06/Untitled-design-2.jpg
END:VEVENT
BEGIN:VEVENT
DTSTART;TZID=America/New_York:20291207T110000
DTEND;TZID=America/New_York:20291207T150000
DTSTAMP:20260420T140458
CREATED:20260323T155206Z
LAST-MODIFIED:20260323T155206Z
UID:10008603-1891335600-1891350000@friendsofpullman.com
SUMMARY:Pullman Exhibit Hall Open
DESCRIPTION:
URL:https://friendsofpullman.com/event/pullman-exhibit-hall-open-2/2029-12-07/
LOCATION:Pullman Exhibit Hall
ATTACH;FMTTYPE=image/jpeg:https://friendsofpullman.com/wp-content/uploads/2025/06/Untitled-design-2.jpg
END:VEVENT
BEGIN:VEVENT
DTSTART;TZID=America/New_York:20291208T110000
DTEND;TZID=America/New_York:20291208T150000
DTSTAMP:20260420T140458
CREATED:20260323T155206Z
LAST-MODIFIED:20260323T155206Z
UID:10008604-1891422000-1891436400@friendsofpullman.com
SUMMARY:Pullman Exhibit Hall Open
DESCRIPTION:
URL:https://friendsofpullman.com/event/pullman-exhibit-hall-open-2/2029-12-08/
LOCATION:Pullman Exhibit Hall
ATTACH;FMTTYPE=image/jpeg:https://friendsofpullman.com/wp-content/uploads/2025/06/Untitled-design-2.jpg
END:VEVENT
BEGIN:VEVENT
DTSTART;TZID=America/New_York:20291214T110000
DTEND;TZID=America/New_York:20291214T150000
DTSTAMP:20260420T140458
CREATED:20260323T155206Z
LAST-MODIFIED:20260323T155206Z
UID:10008605-1891940400-1891954800@friendsofpullman.com
SUMMARY:Pullman Exhibit Hall Open
DESCRIPTION:
URL:https://friendsofpullman.com/event/pullman-exhibit-hall-open-2/2029-12-14/
LOCATION:Pullman Exhibit Hall
ATTACH;FMTTYPE=image/jpeg:https://friendsofpullman.com/wp-content/uploads/2025/06/Untitled-design-2.jpg
END:VEVENT
BEGIN:VEVENT
DTSTART;TZID=America/New_York:20291215T110000
DTEND;TZID=America/New_York:20291215T150000
DTSTAMP:20260420T140458
CREATED:20260323T155206Z
LAST-MODIFIED:20260323T155206Z
UID:10008606-1892026800-1892041200@friendsofpullman.com
SUMMARY:Pullman Exhibit Hall Open
DESCRIPTION:
URL:https://friendsofpullman.com/event/pullman-exhibit-hall-open-2/2029-12-15/
LOCATION:Pullman Exhibit Hall
ATTACH;FMTTYPE=image/jpeg:https://friendsofpullman.com/wp-content/uploads/2025/06/Untitled-design-2.jpg
END:VEVENT
BEGIN:VEVENT
DTSTART;TZID=America/New_York:20291221T110000
DTEND;TZID=America/New_York:20291221T150000
DTSTAMP:20260420T140458
CREATED:20260323T155206Z
LAST-MODIFIED:20260323T155206Z
UID:10008607-1892545200-1892559600@friendsofpullman.com
SUMMARY:Pullman Exhibit Hall Open
DESCRIPTION:
URL:https://friendsofpullman.com/event/pullman-exhibit-hall-open-2/2029-12-21/
LOCATION:Pullman Exhibit Hall
ATTACH;FMTTYPE=image/jpeg:https://friendsofpullman.com/wp-content/uploads/2025/06/Untitled-design-2.jpg
END:VEVENT
BEGIN:VEVENT
DTSTART;TZID=America/New_York:20291222T110000
DTEND;TZID=America/New_York:20291222T150000
DTSTAMP:20260420T140458
CREATED:20260323T155206Z
LAST-MODIFIED:20260323T155206Z
UID:10008608-1892631600-1892646000@friendsofpullman.com
SUMMARY:Pullman Exhibit Hall Open
DESCRIPTION:
URL:https://friendsofpullman.com/event/pullman-exhibit-hall-open-2/2029-12-22/
LOCATION:Pullman Exhibit Hall
ATTACH;FMTTYPE=image/jpeg:https://friendsofpullman.com/wp-content/uploads/2025/06/Untitled-design-2.jpg
END:VEVENT
BEGIN:VEVENT
DTSTART;TZID=America/New_York:20291228T110000
DTEND;TZID=America/New_York:20291228T150000
DTSTAMP:20260420T140458
CREATED:20260323T155206Z
LAST-MODIFIED:20260323T155206Z
UID:10008609-1893150000-1893164400@friendsofpullman.com
SUMMARY:Pullman Exhibit Hall Open
DESCRIPTION:
URL:https://friendsofpullman.com/event/pullman-exhibit-hall-open-2/2029-12-28/
LOCATION:Pullman Exhibit Hall
ATTACH;FMTTYPE=image/jpeg:https://friendsofpullman.com/wp-content/uploads/2025/06/Untitled-design-2.jpg
END:VEVENT
BEGIN:VEVENT
DTSTART;TZID=America/New_York:20291229T110000
DTEND;TZID=America/New_York:20291229T150000
DTSTAMP:20260420T140458
CREATED:20260323T155206Z
LAST-MODIFIED:20260323T155206Z
UID:10008610-1893236400-1893250800@friendsofpullman.com
SUMMARY:Pullman Exhibit Hall Open
DESCRIPTION:
URL:https://friendsofpullman.com/event/pullman-exhibit-hall-open-2/2029-12-29/
LOCATION:Pullman Exhibit Hall
ATTACH;FMTTYPE=image/jpeg:https://friendsofpullman.com/wp-content/uploads/2025/06/Untitled-design-2.jpg
END:VEVENT
END:VCALENDAR