BEGIN:VCALENDAR
VERSION:2.0
PRODID:-//Friends of Pullman National Historical Park - ECPv6.15.20//NONSGML v1.0//EN
CALSCALE:GREGORIAN
METHOD:PUBLISH
X-WR-CALNAME:Friends of Pullman National Historical Park
X-ORIGINAL-URL:https://friendsofpullman.com
X-WR-CALDESC:Events for Friends of Pullman National Historical Park
REFRESH-INTERVAL;VALUE=DURATION:PT1H
X-Robots-Tag:noindex
X-PUBLISHED-TTL:PT1H
BEGIN:VTIMEZONE
TZID:UTC
BEGIN:STANDARD
TZOFFSETFROM:+0000
TZOFFSETTO:+0000
TZNAME:UTC
DTSTART:20230101T000000
END:STANDARD
END:VTIMEZONE
BEGIN:VEVENT
DTSTART;TZID=UTC:20240629T120000
DTEND;TZID=UTC:20240629T160000
DTSTAMP:20260419T075032
CREATED:20240420T014704Z
LAST-MODIFIED:20240704T025956Z
UID:10001678-1719662400-1719676800@friendsofpullman.com
SUMMARY:People and the Pullman Strike Exhibit
DESCRIPTION:
URL:https://friendsofpullman.com/event/passion-and-pride-people-of-the-pullman-strike/2024-06-29/
LOCATION:Pullman Exhibit Hall\, 11141 S. Cottage Grove Ave.\, Chicago\, IL\, 60628\, United States
ATTACH;FMTTYPE=image/png:https://friendsofpullman.com/wp-content/uploads/2024/04/STRIKEexhibitopenVIS-1.png
END:VEVENT
BEGIN:VEVENT
DTSTART;TZID=UTC:20240628T120000
DTEND;TZID=UTC:20240628T160000
DTSTAMP:20260419T075032
CREATED:20240420T014704Z
LAST-MODIFIED:20240704T025956Z
UID:10001677-1719576000-1719590400@friendsofpullman.com
SUMMARY:People and the Pullman Strike Exhibit
DESCRIPTION:
URL:https://friendsofpullman.com/event/passion-and-pride-people-of-the-pullman-strike/2024-06-28/
LOCATION:Pullman Exhibit Hall\, 11141 S. Cottage Grove Ave.\, Chicago\, IL\, 60628\, United States
ATTACH;FMTTYPE=image/png:https://friendsofpullman.com/wp-content/uploads/2024/04/STRIKEexhibitopenVIS-1.png
END:VEVENT
BEGIN:VEVENT
DTSTART;TZID=UTC:20240627T120000
DTEND;TZID=UTC:20240627T160000
DTSTAMP:20260419T075032
CREATED:20240420T014704Z
LAST-MODIFIED:20240704T025956Z
UID:10001676-1719489600-1719504000@friendsofpullman.com
SUMMARY:People and the Pullman Strike Exhibit
DESCRIPTION:
URL:https://friendsofpullman.com/event/passion-and-pride-people-of-the-pullman-strike/2024-06-27/
LOCATION:Pullman Exhibit Hall\, 11141 S. Cottage Grove Ave.\, Chicago\, IL\, 60628\, United States
ATTACH;FMTTYPE=image/png:https://friendsofpullman.com/wp-content/uploads/2024/04/STRIKEexhibitopenVIS-1.png
END:VEVENT
BEGIN:VEVENT
DTSTART;TZID=UTC:20240623T150000
DTEND;TZID=UTC:20240623T163000
DTSTAMP:20260419T075032
CREATED:20240319T025503Z
LAST-MODIFIED:20240319T025503Z
UID:10001363-1719154800-1719160200@friendsofpullman.com
SUMMARY:HPF Speaker Series: Maternalist Pullman
DESCRIPTION:
URL:https://friendsofpullman.com/event/hpf-speaker-series-maternalist-pullman/
LOCATION:Pullman Exhibit Hall\, 11141 S. Cottage Grove Ave.\, Chicago\, IL\, 60628\, United States
ATTACH;FMTTYPE=image/png:https://friendsofpullman.com/wp-content/uploads/2024/03/2-copy.png
END:VEVENT
BEGIN:VEVENT
DTSTART;TZID=UTC:20240623T120000
DTEND;TZID=UTC:20240623T160000
DTSTAMP:20260419T075032
CREATED:20240420T014704Z
LAST-MODIFIED:20240704T025956Z
UID:10001675-1719144000-1719158400@friendsofpullman.com
SUMMARY:People and the Pullman Strike Exhibit
DESCRIPTION:
URL:https://friendsofpullman.com/event/passion-and-pride-people-of-the-pullman-strike/2024-06-23/
LOCATION:Pullman Exhibit Hall\, 11141 S. Cottage Grove Ave.\, Chicago\, IL\, 60628\, United States
ATTACH;FMTTYPE=image/png:https://friendsofpullman.com/wp-content/uploads/2024/04/STRIKEexhibitopenVIS-1.png
END:VEVENT
BEGIN:VEVENT
DTSTART;TZID=UTC:20240622T120000
DTEND;TZID=UTC:20240622T160000
DTSTAMP:20260419T075032
CREATED:20240420T014704Z
LAST-MODIFIED:20240704T025956Z
UID:10001674-1719057600-1719072000@friendsofpullman.com
SUMMARY:People and the Pullman Strike Exhibit
DESCRIPTION:
URL:https://friendsofpullman.com/event/passion-and-pride-people-of-the-pullman-strike/2024-06-22/
LOCATION:Pullman Exhibit Hall\, 11141 S. Cottage Grove Ave.\, Chicago\, IL\, 60628\, United States
ATTACH;FMTTYPE=image/png:https://friendsofpullman.com/wp-content/uploads/2024/04/STRIKEexhibitopenVIS-1.png
END:VEVENT
BEGIN:VEVENT
DTSTART;TZID=UTC:20240621T120000
DTEND;TZID=UTC:20240621T160000
DTSTAMP:20260419T075032
CREATED:20240420T014704Z
LAST-MODIFIED:20240704T025956Z
UID:10001673-1718971200-1718985600@friendsofpullman.com
SUMMARY:People and the Pullman Strike Exhibit
DESCRIPTION:
URL:https://friendsofpullman.com/event/passion-and-pride-people-of-the-pullman-strike/2024-06-21/
LOCATION:Pullman Exhibit Hall\, 11141 S. Cottage Grove Ave.\, Chicago\, IL\, 60628\, United States
ATTACH;FMTTYPE=image/png:https://friendsofpullman.com/wp-content/uploads/2024/04/STRIKEexhibitopenVIS-1.png
END:VEVENT
BEGIN:VEVENT
DTSTART;TZID=UTC:20240620T120000
DTEND;TZID=UTC:20240620T160000
DTSTAMP:20260419T075032
CREATED:20240420T014704Z
LAST-MODIFIED:20240704T025956Z
UID:10001672-1718884800-1718899200@friendsofpullman.com
SUMMARY:People and the Pullman Strike Exhibit
DESCRIPTION:
URL:https://friendsofpullman.com/event/passion-and-pride-people-of-the-pullman-strike/2024-06-20/
LOCATION:Pullman Exhibit Hall\, 11141 S. Cottage Grove Ave.\, Chicago\, IL\, 60628\, United States
ATTACH;FMTTYPE=image/png:https://friendsofpullman.com/wp-content/uploads/2024/04/STRIKEexhibitopenVIS-1.png
END:VEVENT
BEGIN:VEVENT
DTSTART;TZID=UTC:20240616T130000
DTEND;TZID=UTC:20240616T150000
DTSTAMP:20260419T075032
CREATED:20240319T015914Z
LAST-MODIFIED:20240717T021700Z
UID:10003732-1718542800-1718550000@friendsofpullman.com
SUMMARY:Historic Pullman Labor History Tour
DESCRIPTION:
URL:https://friendsofpullman.com/event/historic-pullman-labor-history-tour/2024-06-16/
LOCATION:Pullman Exhibit Hall\, 11141 S. Cottage Grove Ave.\, Chicago\, IL\, 60628\, United States
ATTACH;FMTTYPE=image/png:https://friendsofpullman.com/wp-content/uploads/2024/03/FIRST-SUNDAY-calendar-copy.png
END:VEVENT
BEGIN:VEVENT
DTSTART;TZID=UTC:20240616T120000
DTEND;TZID=UTC:20240616T160000
DTSTAMP:20260419T075032
CREATED:20240420T014704Z
LAST-MODIFIED:20240704T025956Z
UID:10001671-1718539200-1718553600@friendsofpullman.com
SUMMARY:People and the Pullman Strike Exhibit
DESCRIPTION:
URL:https://friendsofpullman.com/event/passion-and-pride-people-of-the-pullman-strike/2024-06-16/
LOCATION:Pullman Exhibit Hall\, 11141 S. Cottage Grove Ave.\, Chicago\, IL\, 60628\, United States
ATTACH;FMTTYPE=image/png:https://friendsofpullman.com/wp-content/uploads/2024/04/STRIKEexhibitopenVIS-1.png
END:VEVENT
BEGIN:VEVENT
DTSTART;TZID=UTC:20240615T120000
DTEND;TZID=UTC:20240615T160000
DTSTAMP:20260419T075032
CREATED:20240420T014704Z
LAST-MODIFIED:20240704T025956Z
UID:10001670-1718452800-1718467200@friendsofpullman.com
SUMMARY:People and the Pullman Strike Exhibit
DESCRIPTION:
URL:https://friendsofpullman.com/event/passion-and-pride-people-of-the-pullman-strike/2024-06-15/
LOCATION:Pullman Exhibit Hall\, 11141 S. Cottage Grove Ave.\, Chicago\, IL\, 60628\, United States
ATTACH;FMTTYPE=image/png:https://friendsofpullman.com/wp-content/uploads/2024/04/STRIKEexhibitopenVIS-1.png
END:VEVENT
BEGIN:VEVENT
DTSTART;TZID=UTC:20240614T120000
DTEND;TZID=UTC:20240614T160000
DTSTAMP:20260419T075032
CREATED:20240420T014704Z
LAST-MODIFIED:20240704T025956Z
UID:10001669-1718366400-1718380800@friendsofpullman.com
SUMMARY:People and the Pullman Strike Exhibit
DESCRIPTION:
URL:https://friendsofpullman.com/event/passion-and-pride-people-of-the-pullman-strike/2024-06-14/
LOCATION:Pullman Exhibit Hall\, 11141 S. Cottage Grove Ave.\, Chicago\, IL\, 60628\, United States
ATTACH;FMTTYPE=image/png:https://friendsofpullman.com/wp-content/uploads/2024/04/STRIKEexhibitopenVIS-1.png
END:VEVENT
BEGIN:VEVENT
DTSTART;TZID=UTC:20240613T120000
DTEND;TZID=UTC:20240613T160000
DTSTAMP:20260419T075032
CREATED:20240420T014704Z
LAST-MODIFIED:20240704T025956Z
UID:10001668-1718280000-1718294400@friendsofpullman.com
SUMMARY:People and the Pullman Strike Exhibit
DESCRIPTION:
URL:https://friendsofpullman.com/event/passion-and-pride-people-of-the-pullman-strike/2024-06-13/
LOCATION:Pullman Exhibit Hall\, 11141 S. Cottage Grove Ave.\, Chicago\, IL\, 60628\, United States
ATTACH;FMTTYPE=image/png:https://friendsofpullman.com/wp-content/uploads/2024/04/STRIKEexhibitopenVIS-1.png
END:VEVENT
BEGIN:VEVENT
DTSTART;TZID=UTC:20240609T120000
DTEND;TZID=UTC:20240609T160000
DTSTAMP:20260419T075032
CREATED:20240420T014704Z
LAST-MODIFIED:20240704T025956Z
UID:10001667-1717934400-1717948800@friendsofpullman.com
SUMMARY:People and the Pullman Strike Exhibit
DESCRIPTION:
URL:https://friendsofpullman.com/event/passion-and-pride-people-of-the-pullman-strike/2024-06-09/
LOCATION:Pullman Exhibit Hall\, 11141 S. Cottage Grove Ave.\, Chicago\, IL\, 60628\, United States
ATTACH;FMTTYPE=image/png:https://friendsofpullman.com/wp-content/uploads/2024/04/STRIKEexhibitopenVIS-1.png
END:VEVENT
BEGIN:VEVENT
DTSTART;TZID=UTC:20240608T120000
DTEND;TZID=UTC:20240608T160000
DTSTAMP:20260419T075032
CREATED:20240420T014704Z
LAST-MODIFIED:20240704T025956Z
UID:10001666-1717848000-1717862400@friendsofpullman.com
SUMMARY:People and the Pullman Strike Exhibit
DESCRIPTION:
URL:https://friendsofpullman.com/event/passion-and-pride-people-of-the-pullman-strike/2024-06-08/
LOCATION:Pullman Exhibit Hall\, 11141 S. Cottage Grove Ave.\, Chicago\, IL\, 60628\, United States
ATTACH;FMTTYPE=image/png:https://friendsofpullman.com/wp-content/uploads/2024/04/STRIKEexhibitopenVIS-1.png
END:VEVENT
BEGIN:VEVENT
DTSTART;TZID=UTC:20240607T120000
DTEND;TZID=UTC:20240607T160000
DTSTAMP:20260419T075032
CREATED:20240420T014704Z
LAST-MODIFIED:20240704T025956Z
UID:10001665-1717761600-1717776000@friendsofpullman.com
SUMMARY:People and the Pullman Strike Exhibit
DESCRIPTION:
URL:https://friendsofpullman.com/event/passion-and-pride-people-of-the-pullman-strike/2024-06-07/
LOCATION:Pullman Exhibit Hall\, 11141 S. Cottage Grove Ave.\, Chicago\, IL\, 60628\, United States
ATTACH;FMTTYPE=image/png:https://friendsofpullman.com/wp-content/uploads/2024/04/STRIKEexhibitopenVIS-1.png
END:VEVENT
BEGIN:VEVENT
DTSTART;TZID=UTC:20240606T120000
DTEND;TZID=UTC:20240606T160000
DTSTAMP:20260419T075032
CREATED:20240420T014704Z
LAST-MODIFIED:20240704T025956Z
UID:10001664-1717675200-1717689600@friendsofpullman.com
SUMMARY:People and the Pullman Strike Exhibit
DESCRIPTION:
URL:https://friendsofpullman.com/event/passion-and-pride-people-of-the-pullman-strike/2024-06-06/
LOCATION:Pullman Exhibit Hall\, 11141 S. Cottage Grove Ave.\, Chicago\, IL\, 60628\, United States
ATTACH;FMTTYPE=image/png:https://friendsofpullman.com/wp-content/uploads/2024/04/STRIKEexhibitopenVIS-1.png
END:VEVENT
BEGIN:VEVENT
DTSTART;TZID=UTC:20240602T130000
DTEND;TZID=UTC:20240602T143000
DTSTAMP:20260419T075032
CREATED:20240318T033215Z
LAST-MODIFIED:20240717T024531Z
UID:10001343-1717333200-1717338600@friendsofpullman.com
SUMMARY:Historic Pullman First Sunday Walking Tour
DESCRIPTION:
URL:https://friendsofpullman.com/event/historic-pullman-first-sunday-walking-tour/2024-06-02/
LOCATION:Pullman Exhibit Hall\, 11141 S. Cottage Grove Ave.\, Chicago\, IL\, 60628\, United States
ATTACH;FMTTYPE=image/png:https://friendsofpullman.com/wp-content/uploads/2024/03/FIRST-SUNDAY-calendar-1.png
END:VEVENT
BEGIN:VEVENT
DTSTART;TZID=UTC:20240602T120000
DTEND;TZID=UTC:20240602T160000
DTSTAMP:20260419T075032
CREATED:20240420T014704Z
LAST-MODIFIED:20240704T025956Z
UID:10001663-1717329600-1717344000@friendsofpullman.com
SUMMARY:People and the Pullman Strike Exhibit
DESCRIPTION:
URL:https://friendsofpullman.com/event/passion-and-pride-people-of-the-pullman-strike/2024-06-02/
LOCATION:Pullman Exhibit Hall\, 11141 S. Cottage Grove Ave.\, Chicago\, IL\, 60628\, United States
ATTACH;FMTTYPE=image/png:https://friendsofpullman.com/wp-content/uploads/2024/04/STRIKEexhibitopenVIS-1.png
END:VEVENT
BEGIN:VEVENT
DTSTART;TZID=UTC:20240601T120000
DTEND;TZID=UTC:20240601T160000
DTSTAMP:20260419T075032
CREATED:20240420T014704Z
LAST-MODIFIED:20240704T025956Z
UID:10001662-1717243200-1717257600@friendsofpullman.com
SUMMARY:People and the Pullman Strike Exhibit
DESCRIPTION:
URL:https://friendsofpullman.com/event/passion-and-pride-people-of-the-pullman-strike/2024-06-01/
LOCATION:Pullman Exhibit Hall\, 11141 S. Cottage Grove Ave.\, Chicago\, IL\, 60628\, United States
ATTACH;FMTTYPE=image/png:https://friendsofpullman.com/wp-content/uploads/2024/04/STRIKEexhibitopenVIS-1.png
END:VEVENT
BEGIN:VEVENT
DTSTART;TZID=UTC:20240531T120000
DTEND;TZID=UTC:20240531T160000
DTSTAMP:20260419T075032
CREATED:20240420T014704Z
LAST-MODIFIED:20240704T025956Z
UID:10001661-1717156800-1717171200@friendsofpullman.com
SUMMARY:People and the Pullman Strike Exhibit
DESCRIPTION:
URL:https://friendsofpullman.com/event/passion-and-pride-people-of-the-pullman-strike/2024-05-31/
LOCATION:Pullman Exhibit Hall\, 11141 S. Cottage Grove Ave.\, Chicago\, IL\, 60628\, United States
ATTACH;FMTTYPE=image/png:https://friendsofpullman.com/wp-content/uploads/2024/04/STRIKEexhibitopenVIS-1.png
END:VEVENT
BEGIN:VEVENT
DTSTART;TZID=UTC:20240530T120000
DTEND;TZID=UTC:20240530T160000
DTSTAMP:20260419T075032
CREATED:20240420T014704Z
LAST-MODIFIED:20240704T025956Z
UID:10001660-1717070400-1717084800@friendsofpullman.com
SUMMARY:People and the Pullman Strike Exhibit
DESCRIPTION:
URL:https://friendsofpullman.com/event/passion-and-pride-people-of-the-pullman-strike/2024-05-30/
LOCATION:Pullman Exhibit Hall\, 11141 S. Cottage Grove Ave.\, Chicago\, IL\, 60628\, United States
ATTACH;FMTTYPE=image/png:https://friendsofpullman.com/wp-content/uploads/2024/04/STRIKEexhibitopenVIS-1.png
END:VEVENT
BEGIN:VEVENT
DTSTART;TZID=UTC:20240526T120000
DTEND;TZID=UTC:20240526T160000
DTSTAMP:20260419T075032
CREATED:20240420T014704Z
LAST-MODIFIED:20240704T025956Z
UID:10001659-1716724800-1716739200@friendsofpullman.com
SUMMARY:People and the Pullman Strike Exhibit
DESCRIPTION:
URL:https://friendsofpullman.com/event/passion-and-pride-people-of-the-pullman-strike/2024-05-26/
LOCATION:Pullman Exhibit Hall\, 11141 S. Cottage Grove Ave.\, Chicago\, IL\, 60628\, United States
ATTACH;FMTTYPE=image/png:https://friendsofpullman.com/wp-content/uploads/2024/04/STRIKEexhibitopenVIS-1.png
END:VEVENT
BEGIN:VEVENT
DTSTART;TZID=UTC:20240525T120000
DTEND;TZID=UTC:20240525T160000
DTSTAMP:20260419T075032
CREATED:20240420T014704Z
LAST-MODIFIED:20240704T025956Z
UID:10001658-1716638400-1716652800@friendsofpullman.com
SUMMARY:People and the Pullman Strike Exhibit
DESCRIPTION:
URL:https://friendsofpullman.com/event/passion-and-pride-people-of-the-pullman-strike/2024-05-25/
LOCATION:Pullman Exhibit Hall\, 11141 S. Cottage Grove Ave.\, Chicago\, IL\, 60628\, United States
ATTACH;FMTTYPE=image/png:https://friendsofpullman.com/wp-content/uploads/2024/04/STRIKEexhibitopenVIS-1.png
END:VEVENT
BEGIN:VEVENT
DTSTART;TZID=UTC:20240524T120000
DTEND;TZID=UTC:20240524T160000
DTSTAMP:20260419T075032
CREATED:20240420T014704Z
LAST-MODIFIED:20240704T025956Z
UID:10001657-1716552000-1716566400@friendsofpullman.com
SUMMARY:People and the Pullman Strike Exhibit
DESCRIPTION:
URL:https://friendsofpullman.com/event/passion-and-pride-people-of-the-pullman-strike/2024-05-24/
LOCATION:Pullman Exhibit Hall\, 11141 S. Cottage Grove Ave.\, Chicago\, IL\, 60628\, United States
ATTACH;FMTTYPE=image/png:https://friendsofpullman.com/wp-content/uploads/2024/04/STRIKEexhibitopenVIS-1.png
END:VEVENT
BEGIN:VEVENT
DTSTART;TZID=UTC:20240523T120000
DTEND;TZID=UTC:20240523T160000
DTSTAMP:20260419T075032
CREATED:20240420T014704Z
LAST-MODIFIED:20240704T025956Z
UID:10001656-1716465600-1716480000@friendsofpullman.com
SUMMARY:People and the Pullman Strike Exhibit
DESCRIPTION:
URL:https://friendsofpullman.com/event/passion-and-pride-people-of-the-pullman-strike/2024-05-23/
LOCATION:Pullman Exhibit Hall\, 11141 S. Cottage Grove Ave.\, Chicago\, IL\, 60628\, United States
ATTACH;FMTTYPE=image/png:https://friendsofpullman.com/wp-content/uploads/2024/04/STRIKEexhibitopenVIS-1.png
END:VEVENT
BEGIN:VEVENT
DTSTART;TZID=UTC:20240519T130000
DTEND;TZID=UTC:20240519T150000
DTSTAMP:20260419T075032
CREATED:20240319T015914Z
LAST-MODIFIED:20240717T021700Z
UID:10003731-1716123600-1716130800@friendsofpullman.com
SUMMARY:Historic Pullman Labor History Tour
DESCRIPTION:
URL:https://friendsofpullman.com/event/historic-pullman-labor-history-tour/2024-05-19/
LOCATION:Pullman Exhibit Hall\, 11141 S. Cottage Grove Ave.\, Chicago\, IL\, 60628\, United States
ATTACH;FMTTYPE=image/png:https://friendsofpullman.com/wp-content/uploads/2024/03/FIRST-SUNDAY-calendar-copy.png
END:VEVENT
BEGIN:VEVENT
DTSTART;TZID=UTC:20240519T120000
DTEND;TZID=UTC:20240519T160000
DTSTAMP:20260419T075032
CREATED:20240420T014704Z
LAST-MODIFIED:20240704T025956Z
UID:10001655-1716120000-1716134400@friendsofpullman.com
SUMMARY:People and the Pullman Strike Exhibit
DESCRIPTION:
URL:https://friendsofpullman.com/event/passion-and-pride-people-of-the-pullman-strike/2024-05-19/
LOCATION:Pullman Exhibit Hall\, 11141 S. Cottage Grove Ave.\, Chicago\, IL\, 60628\, United States
ATTACH;FMTTYPE=image/png:https://friendsofpullman.com/wp-content/uploads/2024/04/STRIKEexhibitopenVIS-1.png
END:VEVENT
BEGIN:VEVENT
DTSTART;TZID=UTC:20240518T120000
DTEND;TZID=UTC:20240518T160000
DTSTAMP:20260419T075032
CREATED:20240420T014704Z
LAST-MODIFIED:20240704T025956Z
UID:10001654-1716033600-1716048000@friendsofpullman.com
SUMMARY:People and the Pullman Strike Exhibit
DESCRIPTION:
URL:https://friendsofpullman.com/event/passion-and-pride-people-of-the-pullman-strike/2024-05-18/
LOCATION:Pullman Exhibit Hall\, 11141 S. Cottage Grove Ave.\, Chicago\, IL\, 60628\, United States
ATTACH;FMTTYPE=image/png:https://friendsofpullman.com/wp-content/uploads/2024/04/STRIKEexhibitopenVIS-1.png
END:VEVENT
BEGIN:VEVENT
DTSTART;TZID=UTC:20240517T120000
DTEND;TZID=UTC:20240517T160000
DTSTAMP:20260419T075032
CREATED:20240420T014704Z
LAST-MODIFIED:20240704T025956Z
UID:10001653-1715947200-1715961600@friendsofpullman.com
SUMMARY:People and the Pullman Strike Exhibit
DESCRIPTION:
URL:https://friendsofpullman.com/event/passion-and-pride-people-of-the-pullman-strike/2024-05-17/
LOCATION:Pullman Exhibit Hall\, 11141 S. Cottage Grove Ave.\, Chicago\, IL\, 60628\, United States
ATTACH;FMTTYPE=image/png:https://friendsofpullman.com/wp-content/uploads/2024/04/STRIKEexhibitopenVIS-1.png
END:VEVENT
END:VCALENDAR